BEGIN:VCALENDAR
VERSION:2.0
PRODID:-//Tilly&#039;s Barn - ECPv6.0.12//NONSGML v1.0//EN
CALSCALE:GREGORIAN
METHOD:PUBLISH
X-WR-CALNAME:Tilly&#039;s Barn
X-ORIGINAL-URL:https://tillysbarn.co.uk
X-WR-CALDESC:Events for Tilly&#039;s Barn
REFRESH-INTERVAL;VALUE=DURATION:PT1H
X-Robots-Tag:noindex
X-PUBLISHED-TTL:PT1H
BEGIN:VTIMEZONE
TZID:UTC
BEGIN:STANDARD
TZOFFSETFROM:+0000
TZOFFSETTO:+0000
TZNAME:UTC
DTSTART:20260101T000000
END:STANDARD
END:VTIMEZONE
BEGIN:VEVENT
DTSTART;TZID=UTC:20260414T100000
DTEND;TZID=UTC:20260414T150000
DTSTAMP:20260425T113912
CREATED:20260307T103620Z
LAST-MODIFIED:20260307T103648Z
UID:3529-1776160800-1776178800@tillysbarn.co.uk
SUMMARY:The Market House\, Hawes
DESCRIPTION:Come and say hello at the Market House Hawes
URL:https://tillysbarn.co.uk/event/the-market-house-hawes-6/
LOCATION:The Market House\, Hawes\, Hawes\, North Yorkshire\, DL83qx\, United Kingdom
CATEGORIES:Stall Event
END:VEVENT
BEGIN:VEVENT
DTSTART;TZID=UTC:20260502T093000
DTEND;TZID=UTC:20260502T150000
DTSTAMP:20260425T113912
CREATED:20260307T101510Z
LAST-MODIFIED:20260307T101510Z
UID:3508-1777714200-1777734000@tillysbarn.co.uk
SUMMARY:Northern Crafts at The Witham Barnard Castle
DESCRIPTION:We will be at this fantastic event\, come and say hello
URL:https://tillysbarn.co.uk/event/northern-crafts-at-the-witham-barnard-castle-11/
LOCATION:The Witham\, Barnard Castle\, 3 Horse Market\, Barnard Castle\, DL128LY\, United Kingdom
CATEGORIES:Stall Event
END:VEVENT
BEGIN:VEVENT
DTSTART;TZID=UTC:20260516T100000
DTEND;TZID=UTC:20260516T160000
DTSTAMP:20260425T113912
CREATED:20260307T105832Z
LAST-MODIFIED:20260307T105832Z
UID:3548-1778925600-1778947200@tillysbarn.co.uk
SUMMARY:Durham Dales at Slaley Hall
DESCRIPTION:
URL:https://tillysbarn.co.uk/event/durham-dales-at-slaley-hall/
LOCATION:Slaley Show\, Townhead\, Slaley\, Northumbria\, NE47 0AD\, United Kingdom
CATEGORIES:Stall Event
END:VEVENT
BEGIN:VEVENT
DTSTART;TZID=UTC:20260523T100000
DTEND;TZID=UTC:20260523T170000
DTSTAMP:20260425T113912
CREATED:20260307T110430Z
LAST-MODIFIED:20260307T110430Z
UID:3551-1779530400-1779555600@tillysbarn.co.uk
SUMMARY:Northumberland County Show
DESCRIPTION:The first county show of the year\, come and see us in the craft tent
URL:https://tillysbarn.co.uk/event/northumberland-county-show/
LOCATION:Northumberland County Show\, Bywell\, Near Stocksfield\, Northumberland\, NE43 7AB\, United Kingdom
CATEGORIES:Stall Event
END:VEVENT
BEGIN:VEVENT
DTSTART;TZID=UTC:20260525T100000
DTEND;TZID=UTC:20260525T170000
DTSTAMP:20260425T113912
CREATED:20260307T111028Z
LAST-MODIFIED:20260307T111028Z
UID:3554-1779703200-1779728400@tillysbarn.co.uk
SUMMARY:Middleham Key Center
DESCRIPTION:
URL:https://tillysbarn.co.uk/event/middleham-key-center/
LOCATION:North Yorkshire
CATEGORIES:Stall Event
END:VEVENT
BEGIN:VEVENT
DTSTART;TZID=UTC:20260527T100000
DTEND;TZID=UTC:20260527T150000
DTSTAMP:20260425T113912
CREATED:20260307T103840Z
LAST-MODIFIED:20260307T103840Z
UID:3532-1779876000-1779894000@tillysbarn.co.uk
SUMMARY:The Market House\, Hawes
DESCRIPTION:Come and say hello at the Market House Hawes
URL:https://tillysbarn.co.uk/event/the-market-house-hawes-7/
LOCATION:The Market House\, Hawes\, Hawes\, North Yorkshire\, DL83qx\, United Kingdom
CATEGORIES:Stall Event
END:VEVENT
BEGIN:VEVENT
DTSTART;TZID=UTC:20260606T093000
DTEND;TZID=UTC:20260606T150000
DTSTAMP:20260425T113912
CREATED:20260307T101708Z
LAST-MODIFIED:20260307T101708Z
UID:3510-1780738200-1780758000@tillysbarn.co.uk
SUMMARY:Northern Crafts at The Witham Barnard Castle
DESCRIPTION:We will be at this fantastic event\, come and say hello
URL:https://tillysbarn.co.uk/event/northern-crafts-at-the-witham-barnard-castle-12/
LOCATION:The Witham\, Barnard Castle\, 3 Horse Market\, Barnard Castle\, DL128LY\, United Kingdom
CATEGORIES:Stall Event
END:VEVENT
BEGIN:VEVENT
DTSTART;TZID=UTC:20260621T100000
DTEND;TZID=UTC:20260621T170000
DTSTAMP:20260425T113912
CREATED:20260307T111206Z
LAST-MODIFIED:20260307T111206Z
UID:3556-1782036000-1782061200@tillysbarn.co.uk
SUMMARY:North Yorkshire County Show
DESCRIPTION:
URL:https://tillysbarn.co.uk/event/north-yorkshire-county-show-2/
LOCATION:Otterington Hall\, Otterington Hall\, Northallerton\, North Yorkshite\, DL7 9HW
CATEGORIES:Stall Event
END:VEVENT
BEGIN:VEVENT
DTSTART;TZID=UTC:20260704T093000
DTEND;TZID=UTC:20260704T150000
DTSTAMP:20260425T113912
CREATED:20260307T101818Z
LAST-MODIFIED:20260307T101818Z
UID:3512-1783157400-1783177200@tillysbarn.co.uk
SUMMARY:Northern Crafts at The Witham Barnard Castle
DESCRIPTION:We will be at this fantastic event\, come and say hello
URL:https://tillysbarn.co.uk/event/northern-crafts-at-the-witham-barnard-castle-13/
LOCATION:The Witham\, Barnard Castle\, 3 Horse Market\, Barnard Castle\, DL128LY\, United Kingdom
CATEGORIES:Stall Event
END:VEVENT
BEGIN:VEVENT
DTSTART;TZID=UTC:20260718T100000
DTEND;TZID=UTC:20260718T170000
DTSTAMP:20260425T113912
CREATED:20260307T111345Z
LAST-MODIFIED:20260307T111345Z
UID:3558-1784368800-1784394000@tillysbarn.co.uk
SUMMARY:Penrith Show
DESCRIPTION:We will be heading west towards the Lakes for Penrith show\, come and see us in the craft tent
URL:https://tillysbarn.co.uk/event/penrith-show/
LOCATION:Penrith Show\, Brougham Hall Farm\, Penrith\, Cumbria\, CA10 2DE\, United Kingdom
CATEGORIES:Stall Event
END:VEVENT
BEGIN:VEVENT
DTSTART;TZID=UTC:20260721T100000
DTEND;TZID=UTC:20260721T150000
DTSTAMP:20260425T113912
CREATED:20260307T104035Z
LAST-MODIFIED:20260307T104540Z
UID:3534-1784628000-1784646000@tillysbarn.co.uk
SUMMARY:The Market House\, Hawes
DESCRIPTION:Come and say hello at the Market House Hawes
URL:https://tillysbarn.co.uk/event/the-market-house-hawes-8/
LOCATION:The Market House\, Hawes\, Hawes\, North Yorkshire\, DL83qx\, United Kingdom
CATEGORIES:Stall Event
END:VEVENT
BEGIN:VEVENT
DTSTART;TZID=UTC:20260801T093000
DTEND;TZID=UTC:20260801T150000
DTSTAMP:20260425T113912
CREATED:20260307T102226Z
LAST-MODIFIED:20260307T102226Z
UID:3514-1785576600-1785596400@tillysbarn.co.uk
SUMMARY:Northern Crafts at The Witham Barnard Castle
DESCRIPTION:We will be at this fantastic event\, come and say hello
URL:https://tillysbarn.co.uk/event/northern-crafts-at-the-witham-barnard-castle-14/
LOCATION:The Witham\, Barnard Castle\, 3 Horse Market\, Barnard Castle\, DL128LY\, United Kingdom
CATEGORIES:Stall Event
END:VEVENT
BEGIN:VEVENT
DTSTART;TZID=UTC:20260804T100000
DTEND;TZID=UTC:20260804T150000
DTSTAMP:20260425T113912
CREATED:20260307T104654Z
LAST-MODIFIED:20260307T104824Z
UID:3536-1785837600-1785855600@tillysbarn.co.uk
SUMMARY:The Market House\, Hawes
DESCRIPTION:Come and say hello at the Market House Hawes
URL:https://tillysbarn.co.uk/event/the-market-house-hawes-9/
LOCATION:The Market House\, Hawes\, Hawes\, North Yorkshire\, DL83qx\, United Kingdom
CATEGORIES:Stall Event
END:VEVENT
BEGIN:VEVENT
DTSTART;TZID=UTC:20260811T100000
DTEND;TZID=UTC:20260811T150000
DTSTAMP:20260425T113912
CREATED:20260307T104748Z
LAST-MODIFIED:20260307T104748Z
UID:3538-1786442400-1786460400@tillysbarn.co.uk
SUMMARY:The Market House\, Hawes
DESCRIPTION:Come and say hello at the Market House Hawes
URL:https://tillysbarn.co.uk/event/the-market-house-hawes-10/
LOCATION:The Market House\, Hawes\, Hawes\, North Yorkshire\, DL83qx\, United Kingdom
CATEGORIES:Stall Event
END:VEVENT
BEGIN:VEVENT
DTSTART;TZID=UTC:20260815T100000
DTEND;TZID=UTC:20260815T170000
DTSTAMP:20260425T113912
CREATED:20260307T111718Z
LAST-MODIFIED:20260307T111718Z
UID:3560-1786788000-1786813200@tillysbarn.co.uk
SUMMARY:Allendale Show
DESCRIPTION:
URL:https://tillysbarn.co.uk/event/allendale-show/
LOCATION:Allendale\, The Showfield\, Riding Haughs\, Allendale\, Hexham\, NE47 9EE\, United Kingdom
CATEGORIES:Stall Event
END:VEVENT
BEGIN:VEVENT
DTSTART;TZID=UTC:20260818T100000
DTEND;TZID=UTC:20260818T150000
DTSTAMP:20260425T113912
CREATED:20260307T104955Z
LAST-MODIFIED:20260307T104955Z
UID:3540-1787047200-1787065200@tillysbarn.co.uk
SUMMARY:The Market House\, Hawes
DESCRIPTION:Come and say hello at the Market House Hawes
URL:https://tillysbarn.co.uk/event/the-market-house-hawes-11/
LOCATION:The Market House\, Hawes\, Hawes\, North Yorkshire\, DL83qx\, United Kingdom
CATEGORIES:Stall Event
END:VEVENT
BEGIN:VEVENT
DTSTART;TZID=UTC:20260825T100000
DTEND;TZID=UTC:20260825T150000
DTSTAMP:20260425T113912
CREATED:20260307T105050Z
LAST-MODIFIED:20260307T105050Z
UID:3542-1787652000-1787670000@tillysbarn.co.uk
SUMMARY:The Market House\, Hawes
DESCRIPTION:Come and say hello at the Market House Hawes
URL:https://tillysbarn.co.uk/event/the-market-house-hawes-12/
LOCATION:The Market House\, Hawes\, Hawes\, North Yorkshire\, DL83qx\, United Kingdom
CATEGORIES:Stall Event
END:VEVENT
BEGIN:VEVENT
DTSTART;TZID=UTC:20260829T100000
DTEND;TZID=UTC:20260829T170000
DTSTAMP:20260425T113912
CREATED:20260307T111906Z
LAST-MODIFIED:20260307T111906Z
UID:3563-1787997600-1788022800@tillysbarn.co.uk
SUMMARY:Wensleydale Show
DESCRIPTION:Back into Wensleydale for this fantastic show\, come and see us in the craft tent
URL:https://tillysbarn.co.uk/event/wensleydale-show-2/
LOCATION:Leyburn Showground\, The Show Field\, Leyburn\, North Yorkshore\, DL1 8QT\, United Kingdom
CATEGORIES:Stall Event
END:VEVENT
BEGIN:VEVENT
DTSTART;TZID=UTC:20260901T100000
DTEND;TZID=UTC:20260901T150000
DTSTAMP:20260425T113912
CREATED:20260307T105153Z
LAST-MODIFIED:20260307T105239Z
UID:3544-1788256800-1788274800@tillysbarn.co.uk
SUMMARY:The Market House\, Hawes
DESCRIPTION:Come and say hello at the Market House Hawes
URL:https://tillysbarn.co.uk/event/the-market-house-hawes-13/
LOCATION:The Market House\, Hawes\, Hawes\, North Yorkshire\, DL83qx\, United Kingdom
CATEGORIES:Stall Event
END:VEVENT
BEGIN:VEVENT
DTSTART;TZID=UTC:20260905T093000
DTEND;TZID=UTC:20260905T150000
DTSTAMP:20260425T113912
CREATED:20260307T102331Z
LAST-MODIFIED:20260307T102331Z
UID:3516-1788600600-1788620400@tillysbarn.co.uk
SUMMARY:Northern Crafts at The Witham Barnard Castle
DESCRIPTION:We will be at this fantastic event\, come and say hello
URL:https://tillysbarn.co.uk/event/northern-crafts-at-the-witham-barnard-castle-15/
LOCATION:The Witham\, Barnard Castle\, 3 Horse Market\, Barnard Castle\, DL128LY\, United Kingdom
CATEGORIES:Stall Event
END:VEVENT
BEGIN:VEVENT
DTSTART;TZID=UTC:20260908T100000
DTEND;TZID=UTC:20260908T150000
DTSTAMP:20260425T113912
CREATED:20260307T105330Z
LAST-MODIFIED:20260307T105330Z
UID:3546-1788861600-1788879600@tillysbarn.co.uk
SUMMARY:The Market House\, Hawes
DESCRIPTION:Come and say hello at the Market House Hawes
URL:https://tillysbarn.co.uk/event/the-market-house-hawes-14/
LOCATION:The Market House\, Hawes\, Hawes\, North Yorkshire\, DL83qx\, United Kingdom
CATEGORIES:Stall Event
END:VEVENT
BEGIN:VEVENT
DTSTART;TZID=UTC:20261003T093000
DTEND;TZID=UTC:20261003T150000
DTSTAMP:20260425T113912
CREATED:20260307T102434Z
LAST-MODIFIED:20260307T102434Z
UID:3518-1791019800-1791039600@tillysbarn.co.uk
SUMMARY:Northern Crafts at The Witham Barnard Castle
DESCRIPTION:We will be at this fantastic event\, come and say hello
URL:https://tillysbarn.co.uk/event/northern-crafts-at-the-witham-barnard-castle-16/
LOCATION:The Witham\, Barnard Castle\, 3 Horse Market\, Barnard Castle\, DL128LY\, United Kingdom
CATEGORIES:Stall Event
END:VEVENT
BEGIN:VEVENT
DTSTART;TZID=UTC:20261107T093000
DTEND;TZID=UTC:20261107T150000
DTSTAMP:20260425T113912
CREATED:20260307T102538Z
LAST-MODIFIED:20260307T102538Z
UID:3520-1794043800-1794063600@tillysbarn.co.uk
SUMMARY:Northern Crafts at The Witham Barnard Castle
DESCRIPTION:We will be at this fantastic event\, come and say hello
URL:https://tillysbarn.co.uk/event/northern-crafts-at-the-witham-barnard-castle-17/
LOCATION:The Witham\, Barnard Castle\, 3 Horse Market\, Barnard Castle\, DL128LY\, United Kingdom
CATEGORIES:Stall Event
END:VEVENT
BEGIN:VEVENT
DTSTART;TZID=UTC:20261205T093000
DTEND;TZID=UTC:20261205T150000
DTSTAMP:20260425T113912
CREATED:20260307T102643Z
LAST-MODIFIED:20260307T102643Z
UID:3522-1796463000-1796482800@tillysbarn.co.uk
SUMMARY:Northern Crafts at The Witham Barnard Castle
DESCRIPTION:We will be at this fantastic event\, come and say hello
URL:https://tillysbarn.co.uk/event/northern-crafts-at-the-witham-barnard-castle-18/
LOCATION:The Witham\, Barnard Castle\, 3 Horse Market\, Barnard Castle\, DL128LY\, United Kingdom
CATEGORIES:Stall Event
END:VEVENT
END:VCALENDAR