BEGIN:VCALENDAR
VERSION:2.0
PRODID:-//Tilly&#039;s Barn - ECPv6.0.12//NONSGML v1.0//EN
CALSCALE:GREGORIAN
METHOD:PUBLISH
X-ORIGINAL-URL:https://tillysbarn.co.uk
X-WR-CALDESC:Events for Tilly&#039;s Barn
REFRESH-INTERVAL;VALUE=DURATION:PT1H
X-Robots-Tag:noindex
X-PUBLISHED-TTL:PT1H
BEGIN:VTIMEZONE
TZID:UTC
BEGIN:STANDARD
TZOFFSETFROM:+0000
TZOFFSETTO:+0000
TZNAME:UTC
DTSTART:20250101T000000
END:STANDARD
END:VTIMEZONE
BEGIN:VEVENT
DTSTART;TZID=UTC:20250913T100000
DTEND;TZID=UTC:20250914T163000
DTSTAMP:20260424T223834
CREATED:20250505T084147Z
LAST-MODIFIED:20250505T084147Z
UID:3403-1757757600-1757867400@tillysbarn.co.uk
SUMMARY:Hunton Steam Gathering
DESCRIPTION:We will be back at Hunton for the 2 days of the Steam Gathering\, see us in the Craft Marquee
URL:https://tillysbarn.co.uk/event/hunton-steam-gathering-3/
LOCATION:Hunton\, Hunton Showground\, Hunton\, Bedale\, North Yorkshire\, DL8 1QF\, United Kingdom
CATEGORIES:Stall Event
END:VEVENT
END:VCALENDAR