BEGIN:VCALENDAR
VERSION:2.0
PRODID:-//Tilly&#039;s Barn - ECPv6.0.12//NONSGML v1.0//EN
CALSCALE:GREGORIAN
METHOD:PUBLISH
X-WR-CALNAME:Tilly&#039;s Barn
X-ORIGINAL-URL:https://tillysbarn.co.uk
X-WR-CALDESC:Events for Tilly&#039;s Barn
REFRESH-INTERVAL;VALUE=DURATION:PT1H
X-Robots-Tag:noindex
X-PUBLISHED-TTL:PT1H
BEGIN:VTIMEZONE
TZID:UTC
BEGIN:STANDARD
TZOFFSETFROM:+0000
TZOFFSETTO:+0000
TZNAME:UTC
DTSTART:20250101T000000
END:STANDARD
END:VTIMEZONE
BEGIN:VEVENT
DTSTART;TZID=UTC:20250830T100000
DTEND;TZID=UTC:20250830T163000
DTSTAMP:20260425T000911
CREATED:20250505T083733Z
LAST-MODIFIED:20250505T083923Z
UID:3399-1756548000-1756571400@tillysbarn.co.uk
SUMMARY:Dufton Show
DESCRIPTION:We will be returninh to Dufton for the Agriculrural show this year\, come and say hello in the craft marquee
URL:https://tillysbarn.co.uk/event/dufton-show/
LOCATION:Dufton Show\, The Show Field\, Dufton\, Cumbria\, CA16 6DA
CATEGORIES:Stall Event
END:VEVENT
END:VCALENDAR