BEGIN:VCALENDAR
VERSION:2.0
PRODID:-//Tilly&#039;s Barn - ECPv6.0.12//NONSGML v1.0//EN
CALSCALE:GREGORIAN
METHOD:PUBLISH
X-WR-CALNAME:Tilly&#039;s Barn
X-ORIGINAL-URL:https://tillysbarn.co.uk
X-WR-CALDESC:Events for Tilly&#039;s Barn
REFRESH-INTERVAL;VALUE=DURATION:PT1H
X-Robots-Tag:noindex
X-PUBLISHED-TTL:PT1H
BEGIN:VTIMEZONE
TZID:UTC
BEGIN:STANDARD
TZOFFSETFROM:+0000
TZOFFSETTO:+0000
TZNAME:UTC
DTSTART:20250101T000000
END:STANDARD
END:VTIMEZONE
BEGIN:VEVENT
DTSTART;TZID=UTC:20250823T090000
DTEND;TZID=UTC:20250823T170000
DTSTAMP:20260425T002135
CREATED:20250205T121144Z
LAST-MODIFIED:20250505T101021Z
UID:3357-1755939600-1755968400@tillysbarn.co.uk
SUMMARY:Wensleydale Agricultural Show
DESCRIPTION:
URL:https://tillysbarn.co.uk/event/wensleydale-agricultural-show/
LOCATION:Leyburn Showground\, The Show Field\, Leyburn\, North Yorkshore\, DL1 8QT\, United Kingdom
CATEGORIES:Stall Event
END:VEVENT
BEGIN:VEVENT
DTSTART;TZID=UTC:20250823T100000
DTEND;TZID=UTC:20250823T163000
DTSTAMP:20260425T002135
CREATED:20250505T083401Z
LAST-MODIFIED:20250505T083432Z
UID:3397-1755943200-1755966600@tillysbarn.co.uk
SUMMARY:Wensleydale Show
DESCRIPTION:Come and say hello at the Wensleydale Show\, we will be in the Craft Marquee
URL:https://tillysbarn.co.uk/event/wensleydale-show/
LOCATION:Leyburn Showground\, The Show Field\, Leyburn\, North Yorkshore\, DL1 8QT\, United Kingdom
CATEGORIES:Stall Event
END:VEVENT
END:VCALENDAR