BEGIN:VCALENDAR
VERSION:2.0
PRODID:-//Tilly&#039;s Barn - ECPv6.0.12//NONSGML v1.0//EN
CALSCALE:GREGORIAN
METHOD:PUBLISH
X-WR-CALNAME:Tilly&#039;s Barn
X-ORIGINAL-URL:https://tillysbarn.co.uk
X-WR-CALDESC:Events for Tilly&#039;s Barn
REFRESH-INTERVAL;VALUE=DURATION:PT1H
X-Robots-Tag:noindex
X-PUBLISHED-TTL:PT1H
BEGIN:VTIMEZONE
TZID:UTC
BEGIN:STANDARD
TZOFFSETFROM:+0000
TZOFFSETTO:+0000
TZNAME:UTC
DTSTART:20260101T000000
END:STANDARD
END:VTIMEZONE
BEGIN:VEVENT
DTSTART;TZID=UTC:20260704T093000
DTEND;TZID=UTC:20260704T150000
DTSTAMP:20260424T151707
CREATED:20260307T101818Z
LAST-MODIFIED:20260307T101818Z
UID:3512-1783157400-1783177200@tillysbarn.co.uk
SUMMARY:Northern Crafts at The Witham Barnard Castle
DESCRIPTION:We will be at this fantastic event\, come and say hello
URL:https://tillysbarn.co.uk/event/northern-crafts-at-the-witham-barnard-castle-13/
LOCATION:The Witham\, Barnard Castle\, 3 Horse Market\, Barnard Castle\, DL128LY\, United Kingdom
CATEGORIES:Stall Event
END:VEVENT
BEGIN:VEVENT
DTSTART;TZID=UTC:20260718T100000
DTEND;TZID=UTC:20260718T170000
DTSTAMP:20260424T151707
CREATED:20260307T111345Z
LAST-MODIFIED:20260307T111345Z
UID:3558-1784368800-1784394000@tillysbarn.co.uk
SUMMARY:Penrith Show
DESCRIPTION:We will be heading west towards the Lakes for Penrith show\, come and see us in the craft tent
URL:https://tillysbarn.co.uk/event/penrith-show/
LOCATION:Penrith Show\, Brougham Hall Farm\, Penrith\, Cumbria\, CA10 2DE\, United Kingdom
CATEGORIES:Stall Event
END:VEVENT
BEGIN:VEVENT
DTSTART;TZID=UTC:20260721T100000
DTEND;TZID=UTC:20260721T150000
DTSTAMP:20260424T151707
CREATED:20260307T104035Z
LAST-MODIFIED:20260307T104540Z
UID:3534-1784628000-1784646000@tillysbarn.co.uk
SUMMARY:The Market House\, Hawes
DESCRIPTION:Come and say hello at the Market House Hawes
URL:https://tillysbarn.co.uk/event/the-market-house-hawes-8/
LOCATION:The Market House\, Hawes\, Hawes\, North Yorkshire\, DL83qx\, United Kingdom
CATEGORIES:Stall Event
END:VEVENT
END:VCALENDAR