BEGIN:VCALENDAR
VERSION:2.0
PRODID:-//Tilly&#039;s Barn - ECPv6.0.12//NONSGML v1.0//EN
CALSCALE:GREGORIAN
METHOD:PUBLISH
X-WR-CALNAME:Tilly&#039;s Barn
X-ORIGINAL-URL:https://tillysbarn.co.uk
X-WR-CALDESC:Events for Tilly&#039;s Barn
REFRESH-INTERVAL;VALUE=DURATION:PT1H
X-Robots-Tag:noindex
X-PUBLISHED-TTL:PT1H
BEGIN:VTIMEZONE
TZID:UTC
BEGIN:STANDARD
TZOFFSETFROM:+0000
TZOFFSETTO:+0000
TZNAME:UTC
DTSTART:20260101T000000
END:STANDARD
END:VTIMEZONE
BEGIN:VEVENT
DTSTART;TZID=UTC:20260606T093000
DTEND;TZID=UTC:20260606T150000
DTSTAMP:20260424T133643
CREATED:20260307T101708Z
LAST-MODIFIED:20260307T101708Z
UID:3510-1780738200-1780758000@tillysbarn.co.uk
SUMMARY:Northern Crafts at The Witham Barnard Castle
DESCRIPTION:We will be at this fantastic event\, come and say hello
URL:https://tillysbarn.co.uk/event/northern-crafts-at-the-witham-barnard-castle-12/
LOCATION:The Witham\, Barnard Castle\, 3 Horse Market\, Barnard Castle\, DL128LY\, United Kingdom
CATEGORIES:Stall Event
END:VEVENT
BEGIN:VEVENT
DTSTART;TZID=UTC:20260621T100000
DTEND;TZID=UTC:20260621T170000
DTSTAMP:20260424T133643
CREATED:20260307T111206Z
LAST-MODIFIED:20260307T111206Z
UID:3556-1782036000-1782061200@tillysbarn.co.uk
SUMMARY:North Yorkshire County Show
DESCRIPTION:
URL:https://tillysbarn.co.uk/event/north-yorkshire-county-show-2/
LOCATION:Otterington Hall\, Otterington Hall\, Northallerton\, North Yorkshite\, DL7 9HW
CATEGORIES:Stall Event
END:VEVENT
END:VCALENDAR