BEGIN:VCALENDAR
VERSION:2.0
PRODID:-//Tilly&#039;s Barn - ECPv6.0.12//NONSGML v1.0//EN
CALSCALE:GREGORIAN
METHOD:PUBLISH
X-ORIGINAL-URL:https://tillysbarn.co.uk
X-WR-CALDESC:Events for Tilly&#039;s Barn
REFRESH-INTERVAL;VALUE=DURATION:PT1H
X-Robots-Tag:noindex
X-PUBLISHED-TTL:PT1H
BEGIN:VTIMEZONE
TZID:UTC
BEGIN:STANDARD
TZOFFSETFROM:+0000
TZOFFSETTO:+0000
TZNAME:UTC
DTSTART:20260101T000000
END:STANDARD
END:VTIMEZONE
BEGIN:VEVENT
DTSTART;TZID=UTC:20260502T093000
DTEND;TZID=UTC:20260502T150000
DTSTAMP:20260424T123035
CREATED:20260307T101510Z
LAST-MODIFIED:20260307T101510Z
UID:3508-1777714200-1777734000@tillysbarn.co.uk
SUMMARY:Northern Crafts at The Witham Barnard Castle
DESCRIPTION:We will be at this fantastic event\, come and say hello
URL:https://tillysbarn.co.uk/event/northern-crafts-at-the-witham-barnard-castle-11/
LOCATION:The Witham\, Barnard Castle\, 3 Horse Market\, Barnard Castle\, DL128LY\, United Kingdom
CATEGORIES:Stall Event
END:VEVENT
BEGIN:VEVENT
DTSTART;TZID=UTC:20260516T100000
DTEND;TZID=UTC:20260516T160000
DTSTAMP:20260424T123035
CREATED:20260307T105832Z
LAST-MODIFIED:20260307T105832Z
UID:3548-1778925600-1778947200@tillysbarn.co.uk
SUMMARY:Durham Dales at Slaley Hall
DESCRIPTION:
URL:https://tillysbarn.co.uk/event/durham-dales-at-slaley-hall/
LOCATION:Slaley Show\, Townhead\, Slaley\, Northumbria\, NE47 0AD\, United Kingdom
CATEGORIES:Stall Event
END:VEVENT
BEGIN:VEVENT
DTSTART;TZID=UTC:20260523T100000
DTEND;TZID=UTC:20260523T170000
DTSTAMP:20260424T123035
CREATED:20260307T110430Z
LAST-MODIFIED:20260307T110430Z
UID:3551-1779530400-1779555600@tillysbarn.co.uk
SUMMARY:Northumberland County Show
DESCRIPTION:The first county show of the year\, come and see us in the craft tent
URL:https://tillysbarn.co.uk/event/northumberland-county-show/
LOCATION:Northumberland County Show\, Bywell\, Near Stocksfield\, Northumberland\, NE43 7AB\, United Kingdom
CATEGORIES:Stall Event
END:VEVENT
BEGIN:VEVENT
DTSTART;TZID=UTC:20260525T100000
DTEND;TZID=UTC:20260525T170000
DTSTAMP:20260424T123035
CREATED:20260307T111028Z
LAST-MODIFIED:20260307T111028Z
UID:3554-1779703200-1779728400@tillysbarn.co.uk
SUMMARY:Middleham Key Center
DESCRIPTION:
URL:https://tillysbarn.co.uk/event/middleham-key-center/
LOCATION:North Yorkshore
CATEGORIES:Stall Event
END:VEVENT
BEGIN:VEVENT
DTSTART;TZID=UTC:20260527T100000
DTEND;TZID=UTC:20260527T150000
DTSTAMP:20260424T123035
CREATED:20260307T103840Z
LAST-MODIFIED:20260307T103840Z
UID:3532-1779876000-1779894000@tillysbarn.co.uk
SUMMARY:The Market House\, Hawes
DESCRIPTION:Come and say hello at the Market House Hawes
URL:https://tillysbarn.co.uk/event/the-market-house-hawes-7/
LOCATION:The Market House\, Hawes\, Hawes\, North Yorkshire\, DL83qx\, United Kingdom
CATEGORIES:Stall Event
END:VEVENT
END:VCALENDAR