BEGIN:VCALENDAR
VERSION:2.0
PRODID:-//Tilly&#039;s Barn - ECPv6.0.12//NONSGML v1.0//EN
CALSCALE:GREGORIAN
METHOD:PUBLISH
X-ORIGINAL-URL:https://tillysbarn.co.uk
X-WR-CALDESC:Events for Tilly&#039;s Barn
REFRESH-INTERVAL;VALUE=DURATION:PT1H
X-Robots-Tag:noindex
X-PUBLISHED-TTL:PT1H
BEGIN:VTIMEZONE
TZID:UTC
BEGIN:STANDARD
TZOFFSETFROM:+0000
TZOFFSETTO:+0000
TZNAME:UTC
DTSTART:20250101T000000
END:STANDARD
END:VTIMEZONE
BEGIN:VEVENT
DTSTART;TZID=UTC:20251101T093000
DTEND;TZID=UTC:20251101T150000
DTSTAMP:20260424T181203
CREATED:20250205T102758Z
LAST-MODIFIED:20250505T100914Z
UID:3343-1761989400-1762009200@tillysbarn.co.uk
SUMMARY:Northern Crafts at The Witham Barnard Castle
DESCRIPTION:
URL:https://tillysbarn.co.uk/event/northern-crafts-at-the-witham-barnard-castle-7/
LOCATION:The Witham\, Barnard Castle\, 3 Horse Market\, Barnard Castle\, DL128LY\, United Kingdom
CATEGORIES:Stall Event
END:VEVENT
BEGIN:VEVENT
DTSTART;TZID=UTC:20251114T100000
DTEND;TZID=UTC:20251116T163000
DTSTAMP:20260424T181203
CREATED:20250505T095655Z
LAST-MODIFIED:20250505T095655Z
UID:3412-1763114400-1763310600@tillysbarn.co.uk
SUMMARY:Beamish Hall Christmas Fare
DESCRIPTION:
URL:https://tillysbarn.co.uk/event/beamish-hall-christmas-fare/
LOCATION:Beamish Hall\, Stanley\, Co Durham\, DH9 0YB
CATEGORIES:Stall Event
END:VEVENT
BEGIN:VEVENT
DTSTART;TZID=UTC:20251122T080000
DTEND;TZID=UTC:20251123T170000
DTSTAMP:20260424T181203
CREATED:20250205T121801Z
LAST-MODIFIED:20250505T100855Z
UID:3361-1763798400-1763917200@tillysbarn.co.uk
SUMMARY:Rival Arts Christmas Fair\, Hexham
DESCRIPTION:
URL:https://tillysbarn.co.uk/event/rival-arts-christmas-fair-hexham/
LOCATION:Wentworth Leisure Centre\, Wentworth Leisure Centre\, Hexham\, Hexham\, Northumberland\, NE46 3PD\, United Kingdom
CATEGORIES:Stall Event
END:VEVENT
BEGIN:VEVENT
DTSTART;TZID=UTC:20251122T093000
DTEND;TZID=UTC:20251122T150000
DTSTAMP:20260424T181203
CREATED:20250205T102939Z
LAST-MODIFIED:20250505T100621Z
UID:3345-1763803800-1763823600@tillysbarn.co.uk
SUMMARY:Northern Crafts at The Witham Barnard Castle
DESCRIPTION:
URL:https://tillysbarn.co.uk/event/northern-crafts-at-the-witham-barnard-castle-8/
LOCATION:The Witham\, Barnard Castle\, 3 Horse Market\, Barnard Castle\, DL128LY\, United Kingdom
CATEGORIES:Stall Event
END:VEVENT
END:VCALENDAR