BEGIN:VCALENDAR
VERSION:2.0
PRODID:-//Tilly&#039;s Barn - ECPv6.0.12//NONSGML v1.0//EN
CALSCALE:GREGORIAN
METHOD:PUBLISH
X-WR-CALNAME:Tilly&#039;s Barn
X-ORIGINAL-URL:https://tillysbarn.co.uk
X-WR-CALDESC:Events for Tilly&#039;s Barn
REFRESH-INTERVAL;VALUE=DURATION:PT1H
X-Robots-Tag:noindex
X-PUBLISHED-TTL:PT1H
BEGIN:VTIMEZONE
TZID:UTC
BEGIN:STANDARD
TZOFFSETFROM:+0000
TZOFFSETTO:+0000
TZNAME:UTC
DTSTART:20250101T000000
END:STANDARD
END:VTIMEZONE
BEGIN:VEVENT
DTSTART;TZID=UTC:20250906T093000
DTEND;TZID=UTC:20250906T150000
DTSTAMP:20260424T210826
CREATED:20250205T101930Z
LAST-MODIFIED:20250505T101004Z
UID:3337-1757151000-1757170800@tillysbarn.co.uk
SUMMARY:Northern Crafts at The Witham Barnard Castle
DESCRIPTION:
URL:https://tillysbarn.co.uk/event/northern-crafts-at-the-witham-barnard-castle-4/
LOCATION:The Witham\, Barnard Castle\, 3 Horse Market\, Barnard Castle\, DL128LY\, United Kingdom
CATEGORIES:Stall Event
END:VEVENT
BEGIN:VEVENT
DTSTART;TZID=UTC:20250913T100000
DTEND;TZID=UTC:20250914T163000
DTSTAMP:20260424T210826
CREATED:20250505T084147Z
LAST-MODIFIED:20250505T084147Z
UID:3403-1757757600-1757867400@tillysbarn.co.uk
SUMMARY:Hunton Steam Gathering
DESCRIPTION:We will be back at Hunton for the 2 days of the Steam Gathering\, see us in the Craft Marquee
URL:https://tillysbarn.co.uk/event/hunton-steam-gathering-3/
LOCATION:Hunton\, Hunton Showground\, Hunton\, Bedale\, North Yorkshire\, DL8 1QF\, United Kingdom
CATEGORIES:Stall Event
END:VEVENT
BEGIN:VEVENT
DTSTART;TZID=UTC:20250920T090000
DTEND;TZID=UTC:20250920T170000
DTSTAMP:20260424T210826
CREATED:20250205T121457Z
LAST-MODIFIED:20250505T100946Z
UID:3359-1758358800-1758387600@tillysbarn.co.uk
SUMMARY:Stokesley Show
DESCRIPTION:
URL:https://tillysbarn.co.uk/event/stokesley-show-3/
LOCATION:Stokesley Show\, Stokesley Showground\, Stokesley\, North Yorkshire\, TS9 5JL\, United Kingdom
CATEGORIES:Stall Event
END:VEVENT
BEGIN:VEVENT
DTSTART;TZID=UTC:20250927T100000
DTEND;TZID=UTC:20250927T163000
DTSTAMP:20260424T210826
CREATED:20250505T084615Z
LAST-MODIFIED:20250505T085057Z
UID:3405-1758967200-1758990600@tillysbarn.co.uk
SUMMARY:Northern Crafts Appleby Makers Market
DESCRIPTION:We willm be attending the Makers Market in Appleby
URL:https://tillysbarn.co.uk/event/northern-crafts-appleby-makers-market/
LOCATION:Appleby Public Hall\, Public Hall\, Appleby\, Cumbria\, CA166YB
CATEGORIES:Stall Event
END:VEVENT
END:VCALENDAR