BEGIN:VCALENDAR
VERSION:2.0
PRODID:-//Tilly&#039;s Barn - ECPv6.0.12//NONSGML v1.0//EN
CALSCALE:GREGORIAN
METHOD:PUBLISH
X-ORIGINAL-URL:https://tillysbarn.co.uk
X-WR-CALDESC:Events for Tilly&#039;s Barn
REFRESH-INTERVAL;VALUE=DURATION:PT1H
X-Robots-Tag:noindex
X-PUBLISHED-TTL:PT1H
BEGIN:VTIMEZONE
TZID:UTC
BEGIN:STANDARD
TZOFFSETFROM:+0000
TZOFFSETTO:+0000
TZNAME:UTC
DTSTART:20250101T000000
END:STANDARD
END:VTIMEZONE
BEGIN:VEVENT
DTSTART;TZID=UTC:20250705T093000
DTEND;TZID=UTC:20250705T150000
DTSTAMP:20260425T002054
CREATED:20250205T101755Z
LAST-MODIFIED:20250505T101058Z
UID:3335-1751707800-1751727600@tillysbarn.co.uk
SUMMARY:Northern Crafts at The Witham Barnard Castle
DESCRIPTION:
URL:https://tillysbarn.co.uk/event/northern-crafts-at-the-witham-barnard-castle-3/
LOCATION:The Witham\, Barnard Castle\, 3 Horse Market\, Barnard Castle\, DL128LY\, United Kingdom
CATEGORIES:Stall Event
END:VEVENT
BEGIN:VEVENT
DTSTART;TZID=UTC:20250719T100000
DTEND;TZID=UTC:20250719T163000
DTSTAMP:20260425T002054
CREATED:20250505T081154Z
LAST-MODIFIED:20250505T081154Z
UID:3387-1752919200-1752942600@tillysbarn.co.uk
SUMMARY:Penrith Show 2025
DESCRIPTION:Returning to the fantastic Penrith show\, come and say hello
URL:https://tillysbarn.co.uk/event/penrith-show-2025/
LOCATION:Penrith Show\, Brougham Hall Farm\, Penrith\, Cumbria\, CA10 2DE\, United Kingdom
CATEGORIES:Stall Event
END:VEVENT
BEGIN:VEVENT
DTSTART;TZID=UTC:20250722T100000
DTEND;TZID=UTC:20250722T163000
DTSTAMP:20260425T002054
CREATED:20250508T092649Z
LAST-MODIFIED:20250508T092649Z
UID:3417-1753178400-1753201800@tillysbarn.co.uk
SUMMARY:The Market House\, Hawes
DESCRIPTION:
URL:https://tillysbarn.co.uk/event/the-market-house-hawes-3/
LOCATION:The Market House\, Hawes\, Hawes\, North Yorkshire\, DL83qx\, United Kingdom
CATEGORIES:Stall Event
END:VEVENT
BEGIN:VEVENT
DTSTART;TZID=UTC:20250726T080000
DTEND;TZID=UTC:20250726T170000
DTSTAMP:20260425T002054
CREATED:20250505T081329Z
LAST-MODIFIED:20250505T081715Z
UID:3389-1753516800-1753549200@tillysbarn.co.uk
SUMMARY:Borrowby Show
DESCRIPTION:We are happy to be attending the 75th Borrowby show\, so come and say hello
URL:https://tillysbarn.co.uk/event/borrowby-show/
LOCATION:Borrowby\, Hillside Rural Activities Park\, Thirsk\, North Yorkshire\, YO7 4AX
CATEGORIES:Stall Event
END:VEVENT
BEGIN:VEVENT
DTSTART;TZID=UTC:20250727T100000
DTEND;TZID=UTC:20250727T170000
DTSTAMP:20260425T002054
CREATED:20250505T075048Z
LAST-MODIFIED:20250505T075048Z
UID:3384-1753610400-1753635600@tillysbarn.co.uk
SUMMARY:aldborough and boroughbridge show 2025
DESCRIPTION:Returning to this wonderfull show\, come and say hello in the craft marquee
URL:https://tillysbarn.co.uk/event/aldborough-and-boroughbridge-show-2025/
LOCATION:newby hall\, Newby Hall\, Boroughbridge\, Yorkshire\, HG4 5AE\, United Kingdom
CATEGORIES:Stall Event
END:VEVENT
END:VCALENDAR